BEGIN:VCALENDAR
VERSION:2.0
PRODID:-//Eventin//Event Calendar//EN
CALSCALE:GREGORIAN
METHOD:PUBLISH
BEGIN:VEVENT
UID:601e93865c4bb9689886452c04d80194@www.seminariosinsight.com
SUMMARY:Insight Niños Santa Cruz
DESCRIPTION:Diseñado especialmente para niños y niñas de 6 a 12 años\, 
 Insight Niños es un espacio seguro\, divertido y enriquecedor donde descub
 ren el valor de ser quienes son\, aprenden a expresar lo que sienten y desa
 rrollan habilidades para relacionarse con amor\, respeto y confianza.\nEste
  seminario fortalece la autoestima y confianza de los niños\, mientras fom
 enta su inteligencia emocional\, el reconocimiento de sus fortalezas y la c
 apacidad de tomar decisiones positivas desde una edad temprana. La infancia
  es una etapa fundamental en la formación del carácter\, y brindar herram
 ientas desde ahora puede marcar una gran diferencia en su vida futura.\nReg
 álale a tu hijo o hija una experiencia inolvidable que lo ayudará a crece
 r con seguridad\, alegría y amor por sí mismo. Insight Niños es un viaje
  de autodescubrimiento que siembra semillas poderosas para toda la vida.\nH
 orarios típicos:Viernes: Inicio en la tardeSábado y Domingo: Jornada comp
 leta
LOCATION:Santa Cruz-Bolivia
DTSTAMP:20260419T172554Z
DTSTART:20260508T200000Z
DTEND:20260510T220000Z
END:VEVENT
END:VCALENDAR
