BEGIN:VCALENDAR
VERSION:2.0
PRODID:-//Eventin//Event Calendar//EN
CALSCALE:GREGORIAN
METHOD:PUBLISH
BEGIN:VEVENT
UID:81df1161f851a5475b652f721bde8281@www.seminariosinsight.com
SUMMARY:Insight II – Ciudad de Mexico
DESCRIPTION:Potencia exponencialmente lo aprendido en el Insight I\, recono
 ciendo y transformando tus patrones limitantes. Libera tu potencial\, redir
 ige tu energía hacia lo que realmente importa y vive desde tu corazón con
  más confianza\, autenticidad y propósito.\n\n\n\nEste seminario se reali
 za en 5 días\, con jornadas completas comenzando a las 11:00 am y en dedic
 ación exclusiva y cupos limitados.\n\n\n\nIr al formulario de registro
LOCATION:Ciudad de Mexico
DTSTAMP:20260419T171532Z
DTSTART:20260429T170000Z
DTEND:20260504T020000Z
END:VEVENT
END:VCALENDAR
