BEGIN:VCALENDAR
VERSION:2.0
PRODID:-//Eventin//Event Calendar//EN
CALSCALE:GREGORIAN
METHOD:PUBLISH
BEGIN:VEVENT
UID:34aa08999c538a439c696dd846d3dcc6@www.seminariosinsight.com
SUMMARY:Insight I – Taubaté
DESCRIPTION:El Seminario Insight I te brinda herramientas para resolver los
  desafíos de tu vida y construir una nueva realidad en equilibrio\, plenit
 ud\, propósito y abundancia. En solo 2 tardes y un fin de semana\, es el p
 rimer paso en tu crecimiento personal.\n\n\n\nHorario:Jueves 5:00 pm a 10:3
 0 pmViernes 5:00 pm a 10:30 pmSábado y Domingo 9:00 am a 8:00 pmGraduació
 n Domingo 7:00 pm\n\n\n\nIr al formulario de registro
LOCATION:Taubaté - Brasil
DTSTAMP:20260419T172408Z
DTSTART:20261022T200000Z
DTEND:20261025T230000Z
END:VEVENT
END:VCALENDAR
