BEGIN:VCALENDAR
VERSION:2.0
PRODID:-//Eventin//Event Calendar//EN
CALSCALE:GREGORIAN
METHOD:PUBLISH
BEGIN:VEVENT
UID:edaaf6b761c6e4e255dbfd3f302b0216@www.seminariosinsight.com
SUMMARY:Insight II – Panama
DESCRIPTION:Potencia exponencialmente lo aprendido en el Insight I\, recono
 ciendo y transformando tus patrones limitantes. Libera tu potencial\, redir
 ige tu energía hacia lo que realmente importa y vive desde tu corazón con
  más confianza\, autenticidad y propósito.\n\n\n\nEste seminario se reali
 za en 5 días\, con jornadas completas comenzando a las 11:00 am y en dedic
 ación exclusiva y cupos limitados.\n\n\n\nIr al formulario de registro
LOCATION:Panama
DTSTAMP:20260424T114253Z
DTSTART:20260429T160000Z
DTEND:20260504T010000Z
END:VEVENT
END:VCALENDAR
