BEGIN:VCALENDAR
VERSION:2.0
PRODID:-//Eventin//Event Calendar//EN
CALSCALE:GREGORIAN
METHOD:PUBLISH
BEGIN:VEVENT
UID:88702930e6ce336be5abf7084eca951d@www.seminariosinsight.com
SUMMARY:Insight I Adolescentes – Chihuahua
DESCRIPTION:Diseñado especialmente para jóvenes de 13 a 17 años\, Insigh
 t para Adolescentes es un espacio transformador donde aprenden a descubrir 
 su poder personal\, construir confianza en sí mismos y desarrollar herrami
 entas para enfrentar los desafíos con una actitud positiva.\n\n\n\nEste se
 minario fortalece la autoestima y confianza de los adolescentes\, mientras 
 fomenta su habilidad para construir relaciones auténticas\, enfrentar desa
 fíos con resiliencia y diseñar un futuro lleno de posibilidades. La adole
 scencia es una etapa clave de descubrimiento y formación de identidad\, lo
  que hace especialmente valioso recibir estas herramientas en este momento 
 de sus vidas.\n\n\n\nDale a tu hijo/a la oportunidad de vivir una experienc
 ia que marcará su vida. Insight para Adolescentes es el primer paso hacia
  un camino de crecimiento personal y éxito con propósito.\n\n\n\nHorarios
  típicos:\n\n\n\n\nJueves y Viernes: Inicio al final de la tarde.\n\n\n\n
 Sábado y Domingo: Jornada completa.\n\n\n\n\n\n\n\n\nIr al formulario de 
 registro
LOCATION:Chihuahua-Mexico
DTSTAMP:20260419T153155Z
DTSTART:20260416T220000Z
DTEND:20260420T010000Z
END:VEVENT
END:VCALENDAR
