BEGIN:VCALENDAR
VERSION:2.0
PRODID:-//Eventin//Event Calendar//EN
CALSCALE:GREGORIAN
METHOD:PUBLISH
BEGIN:VEVENT
UID:9ca1ec1dc221fb5a4a870b8807206cb1@www.seminariosinsight.com
SUMMARY:Insight II – Montevideo
DESCRIPTION:Potencia exponencialmente lo aprendido en el Insight I\, recono
 ciendo y transformando tus patrones limitantes. Libera tu potencial\, redir
 ige tu energía hacia lo que realmente importa y vive desde tu corazón con
  más confianza\, autenticidad y propósito.\n\n\n\nEste seminario se reali
 za en 5 días\, con jornadas completas comenzando a las 11:00 am y en dedic
 ación exclusiva y cupos limitados.\n\n\n\nIr al formulario de registro
LOCATION:Montevideo - Uruguay
DTSTAMP:20260424T145433Z
DTSTART:20260603T150000Z
DTEND:20260608T000000Z
END:VEVENT
END:VCALENDAR
